BEGIN:VCALENDAR
VERSION:2.0
PRODID:-//ÖGHK - ECPv6.15.18//NONSGML v1.0//EN
CALSCALE:GREGORIAN
METHOD:PUBLISH
X-WR-CALNAME:ÖGHK
X-ORIGINAL-URL:https://oeghk.at
X-WR-CALDESC:Veranstaltungen für ÖGHK
REFRESH-INTERVAL;VALUE=DURATION:PT1H
X-Robots-Tag:noindex
X-PUBLISHED-TTL:PT1H
BEGIN:VTIMEZONE
TZID:UTC
BEGIN:STANDARD
TZOFFSETFROM:+0000
TZOFFSETTO:+0000
TZNAME:UTC
DTSTART:20250101T000000
END:STANDARD
END:VTIMEZONE
BEGIN:VEVENT
DTSTART;TZID=UTC:20260203T180000
DTEND;TZID=UTC:20260203T210000
DTSTAMP:20260421T090010
CREATED:20251209T131620Z
LAST-MODIFIED:20251209T131620Z
UID:1532-1770141600-1770152400@oeghk.at
SUMMARY:Clubabend Niederösterreich-Nord
DESCRIPTION:Die ÖGHK Landesgruppe Niederösterreich-Nord lädt zum Oldtimer-Clubabend \njeden 1. Dienstag im Monat\, 18.00 Uhr\nGasthaus „Steirische Bierinsel“\nDr. Viktor Adler Gasse 2\,\n2231 Strasshof an der Nordbahn
URL:https://oeghk.at/termin/clubabend-noe-nord-2026-02/
LOCATION:Gasthaus „Steirische Bierinsel“\, Dr. Viktor Adler Gasse 2\, Strasshof an der Nordbahn\, Strasshof an der Nordbahn\, 2231\, Austria
CATEGORIES:klubabend,NÖ-Nord
END:VEVENT
BEGIN:VEVENT
DTSTART;TZID=UTC:20260213T180000
DTEND;TZID=UTC:20260213T220000
DTSTAMP:20260421T090010
CREATED:20260122T175434Z
LAST-MODIFIED:20260122T175441Z
UID:1613-1771005600-1771020000@oeghk.at
SUMMARY:Clubabend Salzburg
DESCRIPTION:Die ÖGHK Landesgruppe Salzburglädt zum Oldtimer-Clubabend \njeden 2. Freitag im Monat ab 18 Uhr\nRestaurant Bayleaf\nParscher Straße 4\, 5023 Salzburg
URL:https://oeghk.at/termin/salzburg-2026-02/
LOCATION:Restaurant Bayleaf\, Parscher Straße 4\, Salzburg\, Salzburg\, 5023\, Austria
CATEGORIES:klubabend,Salzburg
END:VEVENT
BEGIN:VEVENT
DTSTART;TZID=UTC:20260216T190000
DTEND;TZID=UTC:20260216T220000
DTSTAMP:20260421T090010
CREATED:20250907T231331Z
LAST-MODIFIED:20260122T174934Z
UID:1380-1771268400-1771279200@oeghk.at
SUMMARY:Clubabend Wien
DESCRIPTION:Die ÖGHK Landesgruppe Wien lädt zum Oldtimer-Clubabend \njeden 3. Montag im Monat\, 19.00 Uhr\nGasthaus „Koci“\nDraschestraße 81\, 1230 Wien
URL:https://oeghk.at/termin/wien-2026-02/
LOCATION:Gasthaus Koci\, Draschegasse 81\, Wien\, Wien\, 1230\, Austria
CATEGORIES:klubabend,wien
END:VEVENT
BEGIN:VEVENT
DTSTART;TZID=UTC:20260220T190000
DTEND;TZID=UTC:20260220T220000
DTSTAMP:20260421T090010
CREATED:20250907T233135Z
LAST-MODIFIED:20260122T175203Z
UID:1416-1771614000-1771624800@oeghk.at
SUMMARY:Clubabend Steiermark
DESCRIPTION:Die ÖGHK Landesgruppe Steiermark lädt zum Oldtimer-Clubabend \njeden 3. Freitag im Monat\, 19.00 Uhr\nCafe „Apfelschlössl“\nPrebuch 123\, 8211 Albersdorf
URL:https://oeghk.at/termin/steiermark-2026-01/
LOCATION:Cafe „Apfelschlössl“\, Prebuch 123\, Albersdorf\, Albersdorf\, 8211\, Austria
CATEGORIES:klubabend,steiermark
END:VEVENT
END:VCALENDAR