BEGIN:VCALENDAR
VERSION:2.0
PRODID:-//ÖGHK - ECPv6.15.18//NONSGML v1.0//EN
CALSCALE:GREGORIAN
METHOD:PUBLISH
X-WR-CALNAME:ÖGHK
X-ORIGINAL-URL:https://oeghk.at
X-WR-CALDESC:Veranstaltungen für ÖGHK
REFRESH-INTERVAL;VALUE=DURATION:PT1H
X-Robots-Tag:noindex
X-PUBLISHED-TTL:PT1H
BEGIN:VTIMEZONE
TZID:UTC
BEGIN:STANDARD
TZOFFSETFROM:+0000
TZOFFSETTO:+0000
TZNAME:UTC
DTSTART:20240101T000000
END:STANDARD
END:VTIMEZONE
BEGIN:VEVENT
DTSTART;TZID=UTC:20250909T190000
DTEND;TZID=UTC:20250909T220000
DTSTAMP:20260421T163111
CREATED:20250907T231504Z
LAST-MODIFIED:20250907T231516Z
UID:1384-1757444400-1757455200@oeghk.at
SUMMARY:Clubabend Burgenland
DESCRIPTION:Die ÖGHK Landesgruppe Burgenland lädt zum Oldtimer-Clubabend \n\njeden 2. Dienstag im Monat\, 19.00 Uhr\nGasthof „Zur Grenze“\nWiener Neustädter Straße\, 7033 Pötsching
URL:https://oeghk.at/termin/burgenland-2025-09/
LOCATION:Gasthof „Zur Grenze“\, Zipfwald 1\, Pötsching\, Pötsching\, 7033\, Austria
CATEGORIES:Burgenland,klubabend
END:VEVENT
BEGIN:VEVENT
DTSTART;TZID=UTC:20250910T190000
DTEND;TZID=UTC:20250910T210000
DTSTAMP:20260421T163111
CREATED:20250907T232015Z
LAST-MODIFIED:20250907T232659Z
UID:1396-1757530800-1757538000@oeghk.at
SUMMARY:Clubabend Niederösterreich-Süd
DESCRIPTION:Die ÖGHK Landesgruppe Niederösterreich-Süd lädt zum Oldtimer-Clubabend \njeden 2. Mittwoch im Monat\, 19.00 Uhr\nCafe Restaurant „Cilli“\nRohrbachstraße 3A\, 2620 Neunkirchen
URL:https://oeghk.at/termin/noe-sued-2025-09/
LOCATION:Cafe Restaurant „Cilli“\, Rohrbachstraße 3A\, Neunkirchen\, Neunkirchen\, 2620\, Austria
CATEGORIES:klubabend,NÖ-Süd
END:VEVENT
BEGIN:VEVENT
DTSTART;TZID=UTC:20250912T180000
DTEND;TZID=UTC:20250912T220000
DTSTAMP:20260421T163111
CREATED:20250907T232556Z
LAST-MODIFIED:20250907T232851Z
UID:1407-1757700000-1757714400@oeghk.at
SUMMARY:Clubabend Salzburg
DESCRIPTION:Die ÖGHK Landesgruppe Salzburglädt zum Oldtimer-Clubabend \njeden 2. Freitag im Monat ab 18 Uhr\nRestaurant Bayleaf\nParscher Straße 4\, 5023 Salzburg
URL:https://oeghk.at/termin/salzburg-2025-09/
LOCATION:Restaurant Bayleaf\, Parscher Straße 4\, Salzburg\, Salzburg\, 5023\, Austria
CATEGORIES:klubabend,Salzburg
END:VEVENT
BEGIN:VEVENT
DTSTART;TZID=UTC:20250915T190000
DTEND;TZID=UTC:20250915T220000
DTSTAMP:20260421T163111
CREATED:20250907T231210Z
LAST-MODIFIED:20250907T231252Z
UID:1378-1757962800-1757973600@oeghk.at
SUMMARY:Clubabend Wien
DESCRIPTION:Die ÖGHK Landesgruppe Wien lädt zum Oldtimer-Clubabend \njeden 3. Montag im Monat\, 19.00 Uhr\nGasthaus „Koci“\nDraschestraße 81\, 1230 Wien
URL:https://oeghk.at/termin/wien-2025-09/
LOCATION:Gasthaus Koci\, Draschegasse 81\, Wien\, Wien\, 1230\, Austria
CATEGORIES:klubabend,wien
END:VEVENT
BEGIN:VEVENT
DTSTART;TZID=UTC:20250919T190000
DTEND;TZID=UTC:20250919T220000
DTSTAMP:20260421T163111
CREATED:20250907T233035Z
LAST-MODIFIED:20250907T233035Z
UID:1414-1758308400-1758319200@oeghk.at
SUMMARY:Clubabend Steiermark
DESCRIPTION:Die ÖGHK Landesgruppe Steiermark lädt zum Oldtimer-Clubabend \njeden 3. Freitag im Monat\, 19.00 Uhr\nCafe „Apfelschlössl“\nPrebuch 123\, 8211 Albersdorf
URL:https://oeghk.at/termin/steiermark-2025-09/
LOCATION:Cafe „Apfelschlössl“\, Prebuch 123\, Albersdorf\, Albersdorf\, 8211\, Austria
CATEGORIES:klubabend,steiermark
END:VEVENT
END:VCALENDAR