BEGIN:VCALENDAR
VERSION:2.0
PRODID:-//ÖGHK - ECPv6.15.18//NONSGML v1.0//EN
CALSCALE:GREGORIAN
METHOD:PUBLISH
X-WR-CALNAME:ÖGHK
X-ORIGINAL-URL:https://oeghk.at
X-WR-CALDESC:Veranstaltungen für ÖGHK
REFRESH-INTERVAL;VALUE=DURATION:PT1H
X-Robots-Tag:noindex
X-PUBLISHED-TTL:PT1H
BEGIN:VTIMEZONE
TZID:UTC
BEGIN:STANDARD
TZOFFSETFROM:+0000
TZOFFSETTO:+0000
TZNAME:UTC
DTSTART:20240101T000000
END:STANDARD
END:VTIMEZONE
BEGIN:VEVENT
DTSTART;TZID=UTC:20250809T100000
DTEND;TZID=UTC:20250809T160000
DTSTAMP:20260421T180713
CREATED:20250221T150717Z
LAST-MODIFIED:20250221T150754Z
UID:848-1754733600-1754755200@oeghk.at
SUMMARY:Heinz Clostermeyer Sternfahrt
DESCRIPTION:Die Österreichische Gesellschaft für Historisches Kraftfahrwesen Landesgruppe Niederösterreich Nord und das Oldtimer‐ & Kraftfahrzeugmuseum Sigmundsherberg veranstalten eine Sternfahrt zum Andenken an unser Gründungsmitglied und langjährigen Präsidenten Mag. Heinz Clostermeyer. \nAlle Details entnehmen Sie bitte der Ausschreibung (Hier klicken!) \n 
URL:https://oeghk.at/termin/clostermeyer-sternfahrt-2025/
CATEGORIES:NÖ-Nord,top
ATTACH;FMTTYPE=image/jpeg:https://oeghk.at/wp-content/uploads/2024/10/clostermeyer-heinz.jpg
ORGANIZER;CN="Eduard Melzer":MAILTO:noe-nord@oeghk.at
END:VEVENT
BEGIN:VEVENT
DTSTART;TZID=UTC:20250829T140000
DTEND;TZID=UTC:20250831T140000
DTSTAMP:20260421T180713
CREATED:20250205T175323Z
LAST-MODIFIED:20250418T092209Z
UID:831-1756476000-1756648800@oeghk.at
SUMMARY:Löwen Rallye 2025
DESCRIPTION:Die 46. Internationale Löwen Rallye wird von 29. bis 31. August 2025 im Großraum Salzburg stattfinden.\nMehr Informationen im Frühjahr!
URL:https://oeghk.at/termin/loewen-rallye-2025/
CATEGORIES:ausfahrt,Salzburg,top,treffen
ATTACH;FMTTYPE=image/png:https://oeghk.at/wp-content/uploads/2024/05/teaser-03.png
ORGANIZER;CN="Martin Zehentner":MAILTO:salzburg@oeghk.at
END:VEVENT
END:VCALENDAR