BEGIN:VCALENDAR
VERSION:2.0
PRODID:-//ÖGHK - ECPv6.15.18//NONSGML v1.0//EN
CALSCALE:GREGORIAN
METHOD:PUBLISH
X-WR-CALNAME:ÖGHK
X-ORIGINAL-URL:https://oeghk.at
X-WR-CALDESC:Veranstaltungen für ÖGHK
REFRESH-INTERVAL;VALUE=DURATION:PT1H
X-Robots-Tag:noindex
X-PUBLISHED-TTL:PT1H
BEGIN:VTIMEZONE
TZID:UTC
BEGIN:STANDARD
TZOFFSETFROM:+0000
TZOFFSETTO:+0000
TZNAME:UTC
DTSTART:20250101T000000
END:STANDARD
END:VTIMEZONE
BEGIN:VEVENT
DTSTART;VALUE=DATE:20260808
DTEND;VALUE=DATE:20260809
DTSTAMP:20260420T032959
CREATED:20260327T161327Z
LAST-MODIFIED:20260327T161410Z
UID:3108-1786147200-1786233599@oeghk.at
SUMMARY:Heinz Clostermeyer Gedächtnisfahrt
DESCRIPTION:[vc_row][vc_column][vc_column_text css=““]Die ÖGHK Landesgruppe Niederösterreich Nord lädt im Rahmen der Oldtimertage 2026 und zum Gedenken an unser Gründungsmitglied und langjährigen Präsidenten zur \n2. Heinz Clostermeyer Gedächtnisfahrt\n8. August 2026\nProgramm und Ausschreibung\n\nNach dem Eintreffen im Landgasthaus Demel in Schönkirchen‐Reyersdorf (Hauptstraße 48a) erwartet Euch ein Frühstücksbuffet inklusive einem Heißgetränk. Danach erfolgt die Abfahrt über den Karpartenbick in Matzen und das östliche Weinviertel nach Marchegg mit Besuch des Stadtmuseum Marchegg mit anschließender Möglichkeit in der Schloßtaverne zu Speisen.\n[/vc_column_text][/vc_column][/vc_row][vc_row][vc_column]Information + Anmeldung[/vc_column][/vc_row]
URL:https://oeghk.at/termin/clostermeyer-gedaechtnisfahrt-2026/
CATEGORIES:ausfahrt,OÖ,top,treffen
ATTACH;FMTTYPE=image/jpeg:https://oeghk.at/wp-content/uploads/2025/05/clostermeyer-00.webp
END:VEVENT
BEGIN:VEVENT
DTSTART;VALUE=DATE:20260821
DTEND;VALUE=DATE:20260824
DTSTAMP:20260420T032959
CREATED:20260328T150243Z
LAST-MODIFIED:20260403T094144Z
UID:3104-1787270400-1787529599@oeghk.at
SUMMARY:Löwen Rallye 2026 in Steyr
DESCRIPTION:[vc_row][vc_column][vc_column_text css=““] \nDie 47. Internationale Löwen Rallye findet von 21. bis 23. August 2026 im Großraum Steyr statt.\nAnmeldungen ab sofort möglich!\n[/vc_column_text][/vc_column][/vc_row][vc_row][vc_column]Löwen Rallye[/vc_column][/vc_row]
URL:https://oeghk.at/termin/loewen-rallye-2026/
CATEGORIES:ausfahrt,OÖ,top,treffen
ATTACH;FMTTYPE=image/png:https://oeghk.at/wp-content/uploads/2024/05/teaser-03.png
END:VEVENT
END:VCALENDAR