BEGIN:VCALENDAR
VERSION:2.0
PRODID:-//ÖGHK - ECPv6.15.18//NONSGML v1.0//EN
CALSCALE:GREGORIAN
METHOD:PUBLISH
X-ORIGINAL-URL:https://oeghk.at
X-WR-CALDESC:Veranstaltungen für ÖGHK
REFRESH-INTERVAL;VALUE=DURATION:PT1H
X-Robots-Tag:noindex
X-PUBLISHED-TTL:PT1H
BEGIN:VTIMEZONE
TZID:UTC
BEGIN:STANDARD
TZOFFSETFROM:+0000
TZOFFSETTO:+0000
TZNAME:UTC
DTSTART:20250101T000000
END:STANDARD
END:VTIMEZONE
BEGIN:VEVENT
DTSTART;TZID=UTC:20260707T180000
DTEND;TZID=UTC:20260707T210000
DTSTAMP:20260419T202400
CREATED:20251209T131811Z
LAST-MODIFIED:20251209T131811Z
UID:1542-1783447200-1783458000@oeghk.at
SUMMARY:Clubabend Niederösterreich-Nord
DESCRIPTION:Die ÖGHK Landesgruppe Niederösterreich-Nord lädt zum Oldtimer-Clubabend \njeden 1. Dienstag im Monat\, 18.00 Uhr\nGasthaus „Steirische Bierinsel“\nDr. Viktor Adler Gasse 2\,\n2231 Strasshof an der Nordbahn
URL:https://oeghk.at/termin/clubabend-noe-nord-2026-07/
LOCATION:Gasthaus „Steirische Bierinsel“\, Dr. Viktor Adler Gasse 2\, Strasshof an der Nordbahn\, Strasshof an der Nordbahn\, 2231\, Austria
CATEGORIES:klubabend,NÖ-Nord
END:VEVENT
END:VCALENDAR