BEGIN:VCALENDAR
VERSION:2.0
PRODID:-//ÖGHK - ECPv6.15.18//NONSGML v1.0//EN
CALSCALE:GREGORIAN
METHOD:PUBLISH
X-ORIGINAL-URL:https://oeghk.at
X-WR-CALDESC:Veranstaltungen für ÖGHK
REFRESH-INTERVAL;VALUE=DURATION:PT1H
X-Robots-Tag:noindex
X-PUBLISHED-TTL:PT1H
BEGIN:VTIMEZONE
TZID:UTC
BEGIN:STANDARD
TZOFFSETFROM:+0000
TZOFFSETTO:+0000
TZNAME:UTC
DTSTART:20250101T000000
END:STANDARD
END:VTIMEZONE
BEGIN:VEVENT
DTSTART;VALUE=DATE:20260624
DTEND;VALUE=DATE:20260630
DTSTAMP:20260419T162742
CREATED:20260327T145559Z
LAST-MODIFIED:20260327T145559Z
UID:3096-1782259200-1782777599@oeghk.at
SUMMARY:5 Tage Oldtimer Urlaub
DESCRIPTION:Organisator: Johann Schrattner \nInfos und Anmeldung bei Johann
URL:https://oeghk.at/termin/oldtimer-urlaub-steiermark/
CATEGORIES:ausfahrt,steiermark
END:VEVENT
END:VCALENDAR