BEGIN:VCALENDAR
VERSION:2.0
PRODID:-//ÖGHK - ECPv6.15.18//NONSGML v1.0//EN
CALSCALE:GREGORIAN
METHOD:PUBLISH
X-ORIGINAL-URL:https://oeghk.at
X-WR-CALDESC:Veranstaltungen für ÖGHK
REFRESH-INTERVAL;VALUE=DURATION:PT1H
X-Robots-Tag:noindex
X-PUBLISHED-TTL:PT1H
BEGIN:VTIMEZONE
TZID:UTC
BEGIN:STANDARD
TZOFFSETFROM:+0000
TZOFFSETTO:+0000
TZNAME:UTC
DTSTART:20250101T000000
END:STANDARD
END:VTIMEZONE
BEGIN:VEVENT
DTSTART;TZID=UTC:20260619T190000
DTEND;TZID=UTC:20260619T220000
DTSTAMP:20260419T162717
CREATED:20260122T175325Z
LAST-MODIFIED:20260122T175325Z
UID:1611-1781895600-1781906400@oeghk.at
SUMMARY:Clubabend Steiermark
DESCRIPTION:Die ÖGHK Landesgruppe Steiermark lädt zum Oldtimer-Clubabend \njeden 3. Freitag im Monat\, 19.00 Uhr\nCafe „Apfelschlössl“\nPrebuch 123\, 8211 Albersdorf
URL:https://oeghk.at/termin/steiermark-2026-06/
LOCATION:Cafe „Apfelschlössl“\, Prebuch 123\, Albersdorf\, Albersdorf\, 8211\, Austria
CATEGORIES:klubabend,steiermark
END:VEVENT
END:VCALENDAR