BEGIN:VCALENDAR
VERSION:2.0
PRODID:-//ÖGHK - ECPv6.15.18//NONSGML v1.0//EN
CALSCALE:GREGORIAN
METHOD:PUBLISH
X-WR-CALNAME:ÖGHK
X-ORIGINAL-URL:https://oeghk.at
X-WR-CALDESC:Veranstaltungen für ÖGHK
REFRESH-INTERVAL;VALUE=DURATION:PT1H
X-Robots-Tag:noindex
X-PUBLISHED-TTL:PT1H
BEGIN:VTIMEZONE
TZID:UTC
BEGIN:STANDARD
TZOFFSETFROM:+0000
TZOFFSETTO:+0000
TZNAME:UTC
DTSTART:20250101T000000
END:STANDARD
END:VTIMEZONE
BEGIN:VEVENT
DTSTART;VALUE=DATE:20260614
DTEND;VALUE=DATE:20260615
DTSTAMP:20260419T162314
CREATED:20260330T171953Z
LAST-MODIFIED:20260330T171953Z
UID:3150-1781395200-1781481599@oeghk.at
SUMMARY:Oldtimertreffen Pillichsdorf 14. Juni 2026
DESCRIPTION:[vc_row][vc_column][vc_column_text css=““] \n\nDie Österreichische Gesellschaft für Historisches Kraftfahrwesen Landesgruppe Niederösterreich Nord lädt am 14.Juni 2026 zur Clubschau der ÖGHK beim 18. Oldtimer‐Treffen in Pillichsdorf ein.\n\n[/vc_column_text]Ausschreibung zum Oldtimertreffen Pillichsdorf[/vc_column][/vc_row]
URL:https://oeghk.at/termin/2026-06-14-pillichsdorf/
CATEGORIES:NÖ-Nord,treffen
END:VEVENT
END:VCALENDAR