BEGIN:VCALENDAR
VERSION:2.0
PRODID:-//ÖGHK - ECPv6.15.18//NONSGML v1.0//EN
CALSCALE:GREGORIAN
METHOD:PUBLISH
X-ORIGINAL-URL:https://oeghk.at
X-WR-CALDESC:Veranstaltungen für ÖGHK
REFRESH-INTERVAL;VALUE=DURATION:PT1H
X-Robots-Tag:noindex
X-PUBLISHED-TTL:PT1H
BEGIN:VTIMEZONE
TZID:UTC
BEGIN:STANDARD
TZOFFSETFROM:+0000
TZOFFSETTO:+0000
TZNAME:UTC
DTSTART:20250101T000000
END:STANDARD
END:VTIMEZONE
BEGIN:VEVENT
DTSTART;VALUE=DATE:20260607
DTEND;VALUE=DATE:20260608
DTSTAMP:20260419T162705
CREATED:20260327T145331Z
LAST-MODIFIED:20260327T145629Z
UID:3092-1780790400-1780876799@oeghk.at
SUMMARY:Moped-Ausfahrt Steiermark
DESCRIPTION:Karl Zettl organisiert eine Gemütliche Sonntags-Ausfahrt\, es können natürlich auch nicht Clubmitglieder an dieser Ausfahrt gerne Teilnehmen. \nGenauere Infos folgen
URL:https://oeghk.at/termin/steiermark-moped-2027/
CATEGORIES:ausfahrt,steiermark
END:VEVENT
END:VCALENDAR