BEGIN:VCALENDAR
VERSION:2.0
PRODID:-//ÖGHK - ECPv6.15.18//NONSGML v1.0//EN
CALSCALE:GREGORIAN
METHOD:PUBLISH
X-ORIGINAL-URL:https://oeghk.at
X-WR-CALDESC:Veranstaltungen für ÖGHK
REFRESH-INTERVAL;VALUE=DURATION:PT1H
X-Robots-Tag:noindex
X-PUBLISHED-TTL:PT1H
BEGIN:VTIMEZONE
TZID:UTC
BEGIN:STANDARD
TZOFFSETFROM:+0000
TZOFFSETTO:+0000
TZNAME:UTC
DTSTART:20250101T000000
END:STANDARD
END:VTIMEZONE
BEGIN:VEVENT
DTSTART;TZID=UTC:20260513T190000
DTEND;TZID=UTC:20260513T210000
DTSTAMP:20260419T143306
CREATED:20260327T143328Z
LAST-MODIFIED:20260327T143328Z
UID:3072-1778698800-1778706000@oeghk.at
SUMMARY:Clubabend Niederösterreich-Süd
DESCRIPTION:Die ÖGHK Landesgruppe Niederösterreich-Süd lädt zum Oldtimer-Clubabend \njeden 2. Mittwoch im Monat\, 19.00 Uhr\nCafe Restaurant „Cilli“\nRohrbachstraße 3A\, 2620 Neunkirchen
URL:https://oeghk.at/termin/clubabend-noe-sued-2026-05/
LOCATION:Cafe Restaurant „Cilli“\, Rohrbachstraße 3A\, Neunkirchen\, Neunkirchen\, 2620\, Austria
CATEGORIES:klubabend,NÖ-Süd
END:VEVENT
END:VCALENDAR