BEGIN:VCALENDAR
VERSION:2.0
PRODID:-//ÖGHK - ECPv6.15.18//NONSGML v1.0//EN
CALSCALE:GREGORIAN
METHOD:PUBLISH
X-ORIGINAL-URL:https://oeghk.at
X-WR-CALDESC:Veranstaltungen für ÖGHK
REFRESH-INTERVAL;VALUE=DURATION:PT1H
X-Robots-Tag:noindex
X-PUBLISHED-TTL:PT1H
BEGIN:VTIMEZONE
TZID:UTC
BEGIN:STANDARD
TZOFFSETFROM:+0000
TZOFFSETTO:+0000
TZNAME:UTC
DTSTART:20250101T000000
END:STANDARD
END:VTIMEZONE
BEGIN:VEVENT
DTSTART;VALUE=DATE:20260509
DTEND;VALUE=DATE:20260511
DTSTAMP:20260419T143304
CREATED:20260327T162429Z
LAST-MODIFIED:20260327T162640Z
UID:3116-1778284800-1778457599@oeghk.at
SUMMARY:38. Oldtimer Messe Tulln
DESCRIPTION:[vc_row][vc_column][vc_column_text]Alle Jahre wieder pilgert die Oldtimer-Szene zur Oldtimer Messe Tulln. Rund 30.000 Besucher werden wieder erwartet. \n50-Jahre ÖGHK Jubiläumsstand\nDie Österreichische Gesellschaft für historisches Kraftfahrwesen ist anlässlich unseres runden Jubiläums natürlich auch vertreten. Kurator Peter Sailer hat eine breite Palette an Fahrzeugen ausgewählt. \nWir freuen uns auf Euren Besuch! \n[/vc_column_text][/vc_column][/vc_row][vc_row][vc_column]Oldtimer Messe Tulln[/vc_column][/vc_row]
URL:https://oeghk.at/termin/oldtimer-messe-tulln-2027-2/
CATEGORIES:top,treffen
ATTACH;FMTTYPE=image/jpeg:https://oeghk.at/wp-content/uploads/2026/03/2023-oldtimer-messe-tulln-000.webp
END:VEVENT
END:VCALENDAR