BEGIN:VCALENDAR
VERSION:2.0
PRODID:-//ÖGHK - ECPv6.15.18//NONSGML v1.0//EN
CALSCALE:GREGORIAN
METHOD:PUBLISH
X-WR-CALNAME:ÖGHK
X-ORIGINAL-URL:https://oeghk.at
X-WR-CALDESC:Veranstaltungen für ÖGHK
REFRESH-INTERVAL;VALUE=DURATION:PT1H
X-Robots-Tag:noindex
X-PUBLISHED-TTL:PT1H
BEGIN:VTIMEZONE
TZID:UTC
BEGIN:STANDARD
TZOFFSETFROM:+0000
TZOFFSETTO:+0000
TZNAME:UTC
DTSTART:20250101T000000
END:STANDARD
END:VTIMEZONE
BEGIN:VEVENT
DTSTART;TZID=UTC:20260505T180000
DTEND;TZID=UTC:20260505T210000
DTSTAMP:20260419T143054
CREATED:20251209T131737Z
LAST-MODIFIED:20251209T131737Z
UID:1538-1778004000-1778014800@oeghk.at
SUMMARY:Clubabend Niederösterreich-Nord
DESCRIPTION:Die ÖGHK Landesgruppe Niederösterreich-Nord lädt zum Oldtimer-Clubabend \njeden 1. Dienstag im Monat\, 18.00 Uhr\nGasthaus „Steirische Bierinsel“\nDr. Viktor Adler Gasse 2\,\n2231 Strasshof an der Nordbahn
URL:https://oeghk.at/termin/clubabend-noe-nord-2026-05/
LOCATION:Gasthaus „Steirische Bierinsel“\, Dr. Viktor Adler Gasse 2\, Strasshof an der Nordbahn\, Strasshof an der Nordbahn\, 2231\, Austria
CATEGORIES:klubabend,NÖ-Nord
END:VEVENT
END:VCALENDAR