BEGIN:VCALENDAR
VERSION:2.0
PRODID:-//ÖGHK - ECPv6.15.18//NONSGML v1.0//EN
CALSCALE:GREGORIAN
METHOD:PUBLISH
X-WR-CALNAME:ÖGHK
X-ORIGINAL-URL:https://oeghk.at
X-WR-CALDESC:Veranstaltungen für ÖGHK
REFRESH-INTERVAL;VALUE=DURATION:PT1H
X-Robots-Tag:noindex
X-PUBLISHED-TTL:PT1H
BEGIN:VTIMEZONE
TZID:UTC
BEGIN:STANDARD
TZOFFSETFROM:+0000
TZOFFSETTO:+0000
TZNAME:UTC
DTSTART:20250101T000000
END:STANDARD
END:VTIMEZONE
BEGIN:VEVENT
DTSTART;VALUE=DATE:20260425
DTEND;VALUE=DATE:20260426
DTSTAMP:20260419T123504
CREATED:20260330T171632Z
LAST-MODIFIED:20260330T171649Z
UID:3147-1777075200-1777161599@oeghk.at
SUMMARY:Shop-Festival mit Oldtimer-Treffen in Strasshof
DESCRIPTION:[vc_row][vc_column][vc_column_text css=““]Der Gewerbering Strasshof lädt am 25.April 2026 zum Shop-Festival. \nDie KFZ Werkstätte Rudolf Praher bietet uns die Möglichkeit\, in der Hauptstraße 242 unsere Oldtimer zu präsentieren.[/vc_column_text][/vc_column][/vc_row][vc_row][vc_column]Information + Anmeldung[/vc_column][/vc_row]
URL:https://oeghk.at/termin/2026-04-25-strasshof/
CATEGORIES:NÖ-Nord,treffen
END:VEVENT
BEGIN:VEVENT
DTSTART;TZID=UTC:20260425T190000
DTEND;TZID=UTC:20260426T220000
DTSTAMP:20260419T123504
CREATED:20260327T144111Z
LAST-MODIFIED:20260327T144457Z
UID:3081-1777143600-1777240800@oeghk.at
SUMMARY:Oldtimer Tage Steiermark
DESCRIPTION:Programm folgt (Wir besuchen an diesen beiden Tagen Veranstaltungen befreundeter Clubs)
URL:https://oeghk.at/termin/oldtimer-tage-steiermark-2027/
CATEGORIES:steiermark,treffen
END:VEVENT
BEGIN:VEVENT
DTSTART;VALUE=DATE:20260503
DTEND;VALUE=DATE:20260504
DTSTAMP:20260419T123504
CREATED:20260327T144413Z
LAST-MODIFIED:20260327T144413Z
UID:3083-1777766400-1777852799@oeghk.at
SUMMARY:KURT fährt mit uns furt
DESCRIPTION:Kurt Hirschmann organisiert eine Gemütliche Sonntags-Ausfahrt\, es können natürlich auch nicht Clubmitglieder an dieser Ausfahrt gerne Teilnehmen. \nGenauere Infos folgen
URL:https://oeghk.at/termin/steiermark-ausfahrt-2027-01/
CATEGORIES:ausfahrt,steiermark
END:VEVENT
END:VCALENDAR