BEGIN:VCALENDAR
VERSION:2.0
PRODID:-//ÖGHK - ECPv6.15.18//NONSGML v1.0//EN
CALSCALE:GREGORIAN
METHOD:PUBLISH
X-WR-CALNAME:ÖGHK
X-ORIGINAL-URL:https://oeghk.at
X-WR-CALDESC:Veranstaltungen für ÖGHK
REFRESH-INTERVAL;VALUE=DURATION:PT1H
X-Robots-Tag:noindex
X-PUBLISHED-TTL:PT1H
BEGIN:VTIMEZONE
TZID:UTC
BEGIN:STANDARD
TZOFFSETFROM:+0000
TZOFFSETTO:+0000
TZNAME:UTC
DTSTART:20240101T000000
END:STANDARD
END:VTIMEZONE
BEGIN:VEVENT
DTSTART;TZID=UTC:20251213T170000
DTEND;TZID=UTC:20251213T220000
DTSTAMP:20260421T132039
CREATED:20251123T153430Z
LAST-MODIFIED:20251202T234604Z
UID:1521-1765645200-1765663200@oeghk.at
SUMMARY:Weihnachtsfeier Salzburg
DESCRIPTION:Die ÖGHK Landesgruppe Salzburglädt zum Oldtimer-Clubabend \nPfarrzentrum St. Severin\nErnst-Mach-Straße 39\n5023 Salzburg
URL:https://oeghk.at/termin/clubabend-salzburg/
LOCATION:Restaurant Bayleaf\, Parscher Straße 4\, Salzburg\, Salzburg\, 5023\, Austria
CATEGORIES:klubabend,Salzburg
END:VEVENT
END:VCALENDAR