BEGIN:VCALENDAR
VERSION:2.0
PRODID:-//ÖGHK - ECPv6.15.18//NONSGML v1.0//EN
CALSCALE:GREGORIAN
METHOD:PUBLISH
X-ORIGINAL-URL:https://oeghk.at
X-WR-CALDESC:Veranstaltungen für ÖGHK
REFRESH-INTERVAL;VALUE=DURATION:PT1H
X-Robots-Tag:noindex
X-PUBLISHED-TTL:PT1H
BEGIN:VTIMEZONE
TZID:UTC
BEGIN:STANDARD
TZOFFSETFROM:+0000
TZOFFSETTO:+0000
TZNAME:UTC
DTSTART:20240101T000000
END:STANDARD
END:VTIMEZONE
BEGIN:VEVENT
DTSTART;TZID=UTC:20251111T190000
DTEND;TZID=UTC:20251111T220000
DTSTAMP:20260421T145320
CREATED:20250907T231604Z
LAST-MODIFIED:20250907T231604Z
UID:1386-1762887600-1762898400@oeghk.at
SUMMARY:Clubabend Burgenland
DESCRIPTION:Die ÖGHK Landesgruppe Burgenland lädt zum Oldtimer-Clubabend \n\njeden 2. Dienstag im Monat\, 19.00 Uhr\nGasthof „Zur Grenze“\nWiener Neustädter Straße\, 7033 Pötsching
URL:https://oeghk.at/termin/burgenland-2025-11/
LOCATION:Gasthof „Zur Grenze“\, Zipfwald 1\, Pötsching\, Pötsching\, 7033\, Austria
CATEGORIES:Burgenland,klubabend
END:VEVENT
END:VCALENDAR