BEGIN:VCALENDAR
VERSION:2.0
PRODID:-//ÖGHK - ECPv6.15.18//NONSGML v1.0//EN
CALSCALE:GREGORIAN
METHOD:PUBLISH
X-WR-CALNAME:ÖGHK
X-ORIGINAL-URL:https://oeghk.at
X-WR-CALDESC:Veranstaltungen für ÖGHK
REFRESH-INTERVAL;VALUE=DURATION:PT1H
X-Robots-Tag:noindex
X-PUBLISHED-TTL:PT1H
BEGIN:VTIMEZONE
TZID:UTC
BEGIN:STANDARD
TZOFFSETFROM:+0000
TZOFFSETTO:+0000
TZNAME:UTC
DTSTART:20240101T000000
END:STANDARD
END:VTIMEZONE
BEGIN:VEVENT
DTSTART;TZID=UTC:20251104T180000
DTEND;TZID=UTC:20251104T210000
DTSTAMP:20260421T150901
CREATED:20250907T231830Z
LAST-MODIFIED:20250907T232118Z
UID:1393-1762279200-1762290000@oeghk.at
SUMMARY:Clubabend Niederösterreich-Nord
DESCRIPTION:Die ÖGHK Landesgruppe Niederösterreich-Nord lädt zum Oldtimer-Clubabend \njeden 1. Dienstag im Monat\, 18.00 Uhr\nGasthaus „Steirische Bierinsel“\nDr. Viktor Adler Gasse 2\,\n2231 Strasshof an der Nordbahn
URL:https://oeghk.at/termin/noe-nord-2025-11/
LOCATION:Gasthaus „Steirische Bierinsel“\, Dr. Viktor Adler Gasse 2\, Strasshof an der Nordbahn\, Strasshof an der Nordbahn\, 2231\, Austria
CATEGORIES:klubabend,NÖ-Nord
END:VEVENT
END:VCALENDAR